BEGIN:VCALENDAR
VERSION:2.0
CALSCALE:GREGORIAN
PRODID:-//Diputació de Barcelona//DibaCMS//EN
BEGIN:VEVENT
UID:5184
DTSTAMP:20260423T102448
DTSTART:20120619T000000
DTEND:20130619T000000
SUMMARY:Helena González guanya el Concurs de cartells de la Festa Major de la Llagosta 2012
LOCATION:
METHOD:PUBLISH
X-WR-CALNAME:llagosta@llagosta.cat
X-WR-TIMEZONE:Europe/Madrid
DESCRIPTION:Helena González, veïna de Vilafranca del Penedès, ha estat la guanyadora del Concurs de cartells de Festa Major 2012. González ha obtingut 479 vots. La segona classificada ha estat Elisabeth Sanz, amb 63 vots, i el tercer premi ha estat per a Josep Bertran, amb 62 vots. En total s'han registrat 604 vots.
URI:https://www.llagosta.cat/actualitat/noticies/helena-gonzalez-guanya-el-concurs-de-cartells-de-la-festa-major-de-la-llagosta-2012.html
CLASS:PUBLIC
END:VEVENT
END:VCALENDAR
