BEGIN:VCALENDAR
VERSION:2.0
CALSCALE:GREGORIAN
PRODID:-//Diputació de Barcelona//DibaCMS//EN
BEGIN:VEVENT
UID:5183
DTSTAMP:20260424T054147
DTSTART:20120619T000000
DTEND:20130619T000000
SUMMARY:El Viejas Glorias perd a casa contra el Castic per 3 a 4 en el darrer partit de la lliga
LOCATION:
METHOD:PUBLISH
X-WR-CALNAME:llagosta@llagosta.cat
X-WR-TIMEZONE:Europe/Madrid
DESCRIPTION:El Club Deportivo Viejas Glorias va perdre dissabte el darrer partit de lliga contra el Castic per 3 a 4. Els de la nostra localitat s'han classificat finalment en la zona mitjana-alta després d'una temporada molt irregular.
URI:https://www.llagosta.cat/actualitat/noticies/el-viejas-glorias-perd-a-casa-contra-el-castic-per-3-a-4-en-el-darrer-partit-de-la-lliga.html
CLASS:PUBLIC
END:VEVENT
END:VCALENDAR
