BEGIN:VCALENDAR
VERSION:2.0
CALSCALE:GREGORIAN
PRODID:-//Diputació de Barcelona//DibaCMS//EN
BEGIN:VEVENT
UID:5182
DTSTAMP:20260424T091239
DTSTART:20120618T000000
DTEND:20130618T000000
SUMMARY:Aquesta tarda, lliurament de premis del Concurs de cartells de la Festa Major
LOCATION:
METHOD:PUBLISH
X-WR-CALNAME:llagosta@llagosta.cat
X-WR-TIMEZONE:Europe/Madrid
DESCRIPTION:El saló de plens de l'Ajuntament de la Llagosta acollirà aquesta tarda, a les 19.30 hores, el lliurament de premis del Concurs de cartells de la Festa Major. Durant l'acte, es donarà a conèixer el resultat de les votacions populars per escollir l'obra que serà la imatge de la Festa gran de la nostra localitat. L'alcalde, Alberto López, lliurarà els premis. 
URI:https://www.llagosta.cat/actualitat/noticies/aquesta-tarda-lliurament-de-premis-del-concurs-de-cartells-de-la-festa-major.html
CLASS:PUBLIC
END:VEVENT
END:VCALENDAR
