BEGIN:VCALENDAR
VERSION:2.0
CALSCALE:GREGORIAN
PRODID:-//Diputació de Barcelona//DibaCMS//EN
BEGIN:VEVENT
UID:5181
DTSTAMP:20260424T020730
DTSTART:20120618T000000
DTEND:20130618T000000
SUMMARY:José Antonio Escribano guanya el 29è Concurs de Cante Jondo Ciutat de la Llagosta
LOCATION:
METHOD:PUBLISH
X-WR-CALNAME:llagosta@llagosta.cat
X-WR-TIMEZONE:Europe/Madrid
DESCRIPTION:José Antonio Escribano ha estat el guanyador del 29è Concurs de Cante Jondo Ciutat de la Llagosta. La final del certamen i el lliurament de premis van tenir lloc dissabte al vespre al Centre Cultural. 
URI:https://www.llagosta.cat/actualitat/noticies/jose-antonio-escribano-guanya-el-29e-concurs-de-cante-jondo-ciutat-de-la-llagosta.html
CLASS:PUBLIC
END:VEVENT
END:VCALENDAR
