BEGIN:VCALENDAR
VERSION:2.0
CALSCALE:GREGORIAN
PRODID:-//Diputació de Barcelona//DibaCMS//EN
BEGIN:VEVENT
UID:5180
DTSTAMP:20260423T170249
DTSTART:20120618T000000
DTEND:20130618T000000
SUMMARY:El CD La Concòrdia prepara un campus i un torneig de 24 hores de futbol sala femení
LOCATION:
METHOD:PUBLISH
X-WR-CALNAME:llagosta@llagosta.cat
X-WR-TIMEZONE:Europe/Madrid
DESCRIPTION:El Club Deportivo La Concòrdia celebrarà aquest estiu un torneig de 24 hores de futbol sala femení que es farà els dies 21 i 22 de juliol. L'entitat també organitzarà un campus esportiu adreçat a infants i joves de sis a catorze anys. Aquesta és la primera vegada que el club munta aquestes activitats. 
URI:https://www.llagosta.cat/actualitat/noticies/el-cd-la-concordia-prepara-un-campus-i-un-torneig-de-24-hores-de-futbol-sala-femeni.html
CLASS:PUBLIC
END:VEVENT
END:VCALENDAR
