BEGIN:VCALENDAR
VERSION:2.0
CALSCALE:GREGORIAN
PRODID:-//Diputació de Barcelona//DibaCMS//EN
BEGIN:VEVENT
UID:5179
DTSTAMP:20260423T060647
DTSTART:20120618T000000
DTEND:20130618T000000
SUMMARY:Èxit de la tercera acció contra els peatges, segons la Plataforma #novullpagar Prou Peatges
LOCATION:
METHOD:PUBLISH
X-WR-CALNAME:llagosta@llagosta.cat
X-WR-TIMEZONE:Europe/Madrid
DESCRIPTION:La Plataforma #novullpagar Prou Peatges ha indicat, en un comunicat, que la tercera mobilització popular per exigir el desmantellament dels peatges de Catalunya, realitzada ahir, va ser un gran èxit de mobilització. Segons aquesta plataforma, milers de cotxes van col·lapsar durant diferents moments els peatges de Vilassar, Garraf, la Llagosta i Martorell. 
URI:https://www.llagosta.cat/actualitat/noticies/exit-de-la-tercera-accio-contra-els-peatges-segons-la-plataforma-novullpagar-prou-peatges.html
CLASS:PUBLIC
END:VEVENT
END:VCALENDAR
