BEGIN:VCALENDAR
VERSION:2.0
CALSCALE:GREGORIAN
PRODID:-//Diputació de Barcelona//DibaCMS//EN
BEGIN:VEVENT
UID:5178
DTSTAMP:20260424T000042
DTSTART:20120618T000000
DTEND:20130618T000000
SUMMARY:El FS Unión Llagostense, molt perjudicat per l'arbitratge, perd la final de la Copa
LOCATION:
METHOD:PUBLISH
X-WR-CALNAME:llagosta@llagosta.cat
X-WR-TIMEZONE:Europe/Madrid
DESCRIPTION:El Fútbol Sala Unión Llagostense va perdre dissabte la final de la Copa Catalunya per 3 a 1 contra el Tiana. L'equip de la nostra localitat va abandonar la pista a falta d'un minut i mig per al final molt enfadat amb l'arbitratge que va patir, sobretot a la segona part. 
URI:https://www.llagosta.cat/actualitat/noticies/el-fs-union-llagostense-molt-perjudicat-per-larbitratge-perd-la-final-de-la-copa.html
CLASS:PUBLIC
END:VEVENT
END:VCALENDAR
