BEGIN:VCALENDAR
VERSION:2.0
CALSCALE:GREGORIAN
PRODID:-//Diputació de Barcelona//DibaCMS//EN
BEGIN:VEVENT
UID:5177
DTSTAMP:20260423T060614
DTSTART:20120615T000000
DTEND:20130615T000000
SUMMARY:La Generalitat rebaixarà la seva aportació a les guarderies municipals
LOCATION:
METHOD:PUBLISH
X-WR-CALNAME:llagosta@llagosta.cat
X-WR-TIMEZONE:Europe/Madrid
DESCRIPTION:La Generalitat de Catalunya ha anunciat que rebaixarà l'aportació que fa a les escoles bressol municipal a 875 euros per infant i any. L'Ajuntament de la Llagosta ja ha anunciat que part d'aquesta retallada l'hauran d'assumir les famílies usuàries del servei.
URI:https://www.llagosta.cat/actualitat/noticies/la-generalitat-rebaixara-la-seva-aportacio-a-les-guarderies-municipals.html
CLASS:PUBLIC
END:VEVENT
END:VCALENDAR
