BEGIN:VCALENDAR
VERSION:2.0
CALSCALE:GREGORIAN
PRODID:-//Diputació de Barcelona//DibaCMS//EN
BEGIN:VEVENT
UID:5176
DTSTAMP:20260424T073407
DTSTART:20120615T000000
DTEND:20130615T000000
SUMMARY:L'AMPA de la Gilpe organitza demà tres minicurses per als escolars de la Llagosta
LOCATION:
METHOD:PUBLISH
X-WR-CALNAME:llagosta@llagosta.cat
X-WR-TIMEZONE:Europe/Madrid
DESCRIPTION:L'Associació de Mares i Pares de l'Escola Gilpe organitzarà demà tres minicurses infantils. L'activitat es desenvoluparà a partir de les nou del matí al Parc Popular i compta amb la col·laboració del Club Esportiu Fondistes de la Llagosta. Aquesta és la primera vegada que l'AMPA de la Gilpe realitza un acte d'aquest tipus.
URI:https://www.llagosta.cat/actualitat/noticies/lampa-de-la-gilpe-organitza-dema-tres-minicurses-per-als-escolars-de-la-llagosta.html
CLASS:PUBLIC
END:VEVENT
END:VCALENDAR
