BEGIN:VCALENDAR
VERSION:2.0
CALSCALE:GREGORIAN
PRODID:-//Diputació de Barcelona//DibaCMS//EN
BEGIN:VEVENT
UID:5175
DTSTAMP:20260424T041353
DTSTART:20120615T000000
DTEND:20130615T000000
SUMMARY:La segona Jornada de Copes Catalanes d'handbol es disputa aquest cap de setmana
LOCATION:
METHOD:PUBLISH
X-WR-CALNAME:llagosta@llagosta.cat
X-WR-TIMEZONE:Europe/Madrid
DESCRIPTION:La Llagosta acollirà aquest cap de setmana la segona Jornada de Copes Catalanes d'handbol. El Complex Esportiu Municipal El Turó serà l'escenari de dotze finals de diferents competicions, organitzades per la Federació Catalana d'Handbol i el Joventut Handbol La Llagosta.
URI:https://www.llagosta.cat/actualitat/noticies/la-segona-jornada-de-copes-catalanes-dhandbol-es-disputa-aquest-cap-de-setmana.html
CLASS:PUBLIC
END:VEVENT
END:VCALENDAR
