BEGIN:VCALENDAR
VERSION:2.0
CALSCALE:GREGORIAN
PRODID:-//Diputació de Barcelona//DibaCMS//EN
BEGIN:VEVENT
UID:5174
DTSTAMP:20260424T093153
DTSTART:20120615T000000
DTEND:20130615T000000
SUMMARY:La Colla gegantera de la Llagosta anirà demà a la Trobada d'Olesa de Montserrat
LOCATION:
METHOD:PUBLISH
X-WR-CALNAME:llagosta@llagosta.cat
X-WR-TIMEZONE:Europe/Madrid
DESCRIPTION:La Colla gegantera de la Llagosta participarà demà en els actes de celebració dels 50 anys dels gegants d'Olesa Montserrat. Fins a aquesta localitat es desplaçaran els gegants en Josepet i la Blanqueta i els capgrossos Llago i Arale.
URI:https://www.llagosta.cat/actualitat/noticies/la-colla-gegantera-de-la-llagosta-anira-dema-a-la-trobada-dolesa-de-montserrat.html
CLASS:PUBLIC
END:VEVENT
END:VCALENDAR
