BEGIN:VCALENDAR
VERSION:2.0
CALSCALE:GREGORIAN
PRODID:-//Diputació de Barcelona//DibaCMS//EN
BEGIN:VEVENT
UID:5173
DTSTAMP:20260423T062148
DTSTART:20120615T000000
DTEND:20130615T000000
SUMMARY:Diumenge, nova acció en contra del pagament als peatges de Catalunya
LOCATION:
METHOD:PUBLISH
X-WR-CALNAME:llagosta@llagosta.cat
X-WR-TIMEZONE:Europe/Madrid
DESCRIPTION:La Plataforma #novullpagar Prou Peatges convoca a la ciutadania a una tercera mobilització popular per exigir el desmantellament dels peatges de Catalunya. Aquesta acció tindrà lloc diumenge, a les dotze del migdia, a tots els peatges, entre ells el de la Llagosta, situat a l'autopista C-33. 

URI:https://www.llagosta.cat/actualitat/noticies/diumenge-nova-accio-en-contra-del-pagament-als-peatges-de-catalunya.html
CLASS:PUBLIC
END:VEVENT
END:VCALENDAR
