BEGIN:VCALENDAR
VERSION:2.0
CALSCALE:GREGORIAN
PRODID:-//Diputació de Barcelona//DibaCMS//EN
BEGIN:VEVENT
UID:5172
DTSTAMP:20260424T035359
DTSTART:20120615T000000
DTEND:20130615T000000
SUMMARY:Demà, final del Concurs de cante jondo, retransmesa per Ràdio La Llagosta
LOCATION:
METHOD:PUBLISH
X-WR-CALNAME:llagosta@llagosta.cat
X-WR-TIMEZONE:Europe/Madrid
DESCRIPTION:Ràdio La Llagosta retransmetrà demà en directe la final de l'edició número 29 del Concurs de cante jondo Ciutat de la Llagosta, organitzat per la Casa de Andalucía, i el lliurament de premis. L'acte tindrà lloc a partir de les vuit de la tarda al Centre Cultural de la plaça de l'Alcalde Sisó Pons.
URI:https://www.llagosta.cat/actualitat/noticies/dema-final-del-concurs-de-cante-jondo-retransmesa-per-radio-la-llagosta.html
CLASS:PUBLIC
END:VEVENT
END:VCALENDAR
