BEGIN:VCALENDAR
VERSION:2.0
CALSCALE:GREGORIAN
PRODID:-//Diputació de Barcelona//DibaCMS//EN
BEGIN:VEVENT
UID:5171
DTSTAMP:20260423T062516
DTSTART:20120614T000000
DTEND:20130614T000000
SUMMARY:Trasllat del Servei de Recerca d'Ocupació Local a l'edifici municipal del passeig del Pintor Sert
LOCATION:
METHOD:PUBLISH
X-WR-CALNAME:llagosta@llagosta.cat
X-WR-TIMEZONE:Europe/Madrid
DESCRIPTION:El Servei de Recerca d'Ocupació Local de l'Ajuntament de la Llagosta es traslladarà la setmana que ve a la planta baixa de l'edifici de serveis administratius del passeig del Pintor Sert. Dimecres, ja atendrà als ciutadans en aquesta nova ubicació.
URI:https://www.llagosta.cat/actualitat/noticies/trasllat-del-servei-de-recerca-docupacio-local-a-ledifici-municipal-del-passeig-del-pintor-sert.html
CLASS:PUBLIC
END:VEVENT
END:VCALENDAR
