BEGIN:VCALENDAR
VERSION:2.0
CALSCALE:GREGORIAN
PRODID:-//Diputació de Barcelona//DibaCMS//EN
BEGIN:VEVENT
UID:5170
DTSTAMP:20260423T043042
DTSTART:20120614T000000
DTEND:20130614T000000
SUMMARY:Obert el període de preinscripcions per al proper curs al Centre de Formació d'Adults
LOCATION:
METHOD:PUBLISH
X-WR-CALNAME:llagosta@llagosta.cat
X-WR-TIMEZONE:Europe/Madrid
DESCRIPTION:El Centre de Formació d'Adults de la Llagosta ha obert avui el període de preinscripcions per al curs 2012-2013. Aquest tràmit es podrà realitzar fins al dia 22 de juny. L'oferta de l'Escola d'Adults de la nostra localitat serà similar a la de cursos anteriors. 
URI:https://www.llagosta.cat/actualitat/noticies/obert-el-periode-de-preinscripcions-per-al-proper-curs-al-centre-de-formacio-dadults.html
CLASS:PUBLIC
END:VEVENT
END:VCALENDAR
