BEGIN:VCALENDAR
VERSION:2.0
CALSCALE:GREGORIAN
PRODID:-//Diputació de Barcelona//DibaCMS//EN
BEGIN:VEVENT
UID:5169
DTSTAMP:20260423T080541
DTSTART:20120614T000000
DTEND:20130614T000000
SUMMARY:L'Handbol Club Vallag està confeccionant la plantilla del sènior de cara a la propera temporada
LOCATION:
METHOD:PUBLISH
X-WR-CALNAME:llagosta@llagosta.cat
X-WR-TIMEZONE:Europe/Madrid
DESCRIPTION:L'Handbol Club Vallag està preparant la propera temporada. L'entitat està confeccionant l'equip que jugarà la lliga 2012-2013 a la Segona Catalana. El conjunt llagostenc s'ha proclamat enguany campió de lliga.
URI:https://www.llagosta.cat/actualitat/noticies/lhandbol-club-vallag-esta-confeccionant-la-plantilla-del-senior-de-cara-a-la-propera-temporada.html
CLASS:PUBLIC
END:VEVENT
END:VCALENDAR
