BEGIN:VCALENDAR
VERSION:2.0
CALSCALE:GREGORIAN
PRODID:-//Diputació de Barcelona//DibaCMS//EN
BEGIN:VEVENT
UID:5168
DTSTAMP:20260423T134900
DTSTART:20120614T000000
DTEND:20130614T000000
SUMMARY:Demà, darrer dia per votar per escollir el cartell de la Festa Major de la Llagosta 2012
LOCATION:
METHOD:PUBLISH
X-WR-CALNAME:llagosta@llagosta.cat
X-WR-TIMEZONE:Europe/Madrid
DESCRIPTION:Demà, finalitza el termini per tal que els ciutadans votin per escollir el cartell de la Festa Major de la Llagosta d'entre els tres dissenys finalistes. Hi ha dues opcions, o bé fer-ho per Internet en aquesta pàgina web o bé omplir la butlleta que sortia al Butlletí d'Informació Municipal del mes de juny i lliurar-la a l'Oficina d'Atenció a la Ciutadania. 
URI:https://www.llagosta.cat/actualitat/noticies/dema-darrer-dia-per-votar-per-escollir-el-cartell-de-la-festa-major-de-la-llagosta-2012.html
CLASS:PUBLIC
END:VEVENT
END:VCALENDAR
