BEGIN:VCALENDAR
VERSION:2.0
CALSCALE:GREGORIAN
PRODID:-//Diputació de Barcelona//DibaCMS//EN
BEGIN:VEVENT
UID:5167
DTSTAMP:20260423T134114
DTSTART:20120613T000000
DTEND:20130613T000000
SUMMARY:Durant el mes de maig, l'atur va baixar a la Llagosta en 23 persones
LOCATION:
METHOD:PUBLISH
X-WR-CALNAME:llagosta@llagosta.cat
X-WR-TIMEZONE:Europe/Madrid
DESCRIPTION:L'atur a la Llagosta va baixar el mes passat en 23 persones. Aquest és el primer descens que es registra aquest any a la nostra localitat. A 31 de maig hi havia registrats a l'Oficina de Treball de la Generalitat 1.509 llagostencs, segons les dades facilitades per l'Observatori de desenvolupament local del Consell Comarcal.
URI:https://www.llagosta.cat/actualitat/noticies/durant-el-mes-de-maig-latur-va-baixar-a-la-llagosta-en-23-persones.html
CLASS:PUBLIC
END:VEVENT
END:VCALENDAR
