BEGIN:VCALENDAR
VERSION:2.0
CALSCALE:GREGORIAN
PRODID:-//Diputació de Barcelona//DibaCMS//EN
BEGIN:VEVENT
UID:5166
DTSTAMP:20260423T120219
DTSTART:20120613T000000
DTEND:20130613T000000
SUMMARY:Els ajuntaments de la comarca estudien mancomunar serveis de medi ambient i territori
LOCATION:
METHOD:PUBLISH
X-WR-CALNAME:llagosta@llagosta.cat
X-WR-TIMEZONE:Europe/Madrid
DESCRIPTION:El Consell Comarcal i els ajuntaments del Vallès Oriental, entre ells el de la Llagosta, estan estudiant com mancomunar o prestar serveis en xarxa en l'àmbit del medi ambient i el territori. La possibilitat de contractar subministraments de forma conjunta és una altra de les opcions que estan tractant.
URI:https://www.llagosta.cat/actualitat/noticies/els-ajuntaments-de-la-comarca-estudien-mancomunar-serveis-de-medi-ambient-i-territori.html
CLASS:PUBLIC
END:VEVENT
END:VCALENDAR
