BEGIN:VCALENDAR
VERSION:2.0
CALSCALE:GREGORIAN
PRODID:-//Diputació de Barcelona//DibaCMS//EN
BEGIN:VEVENT
UID:5165
DTSTAMP:20260423T102322
DTSTART:20120613T000000
DTEND:20130613T000000
SUMMARY:La Llagosta + Activa inicia demà una sèrie de concerts a la fresca a diversos indrets
LOCATION:
METHOD:PUBLISH
X-WR-CALNAME:llagosta@llagosta.cat
X-WR-TIMEZONE:Europe/Madrid
DESCRIPTION:El col·lectiu La Llagosta + Activa organitzarà al llarg de les properes setmanes tot un seguit de concerts a la fresca. Les sessions musicals es faran els dijous, a les vuit del vespre, a diferents espais de la nostra localitat. 
URI:https://www.llagosta.cat/actualitat/noticies/la-llagosta--activa-inicia-dema-una-serie-de-concerts-a-la-fresca-a-diversos-indrets.html
CLASS:PUBLIC
END:VEVENT
END:VCALENDAR
