BEGIN:VCALENDAR
VERSION:2.0
CALSCALE:GREGORIAN
PRODID:-//Diputació de Barcelona//DibaCMS//EN
BEGIN:VEVENT
UID:5164
DTSTAMP:20260423T021916
DTSTART:20120613T000000
DTEND:20130613T000000
SUMMARY:El Viejas Glorias perdona a la primera part i perd al camp del Can Clos per 4 a 2
LOCATION:
METHOD:PUBLISH
X-WR-CALNAME:llagosta@llagosta.cat
X-WR-TIMEZONE:Europe/Madrid
DESCRIPTION:El Club Deportivo Viejas Glorias va perdre la jornada passada per 4 a 2 al camp del Can Clos. Els llagostencs van fer una bona primera part, però només van aprofitar una de les diverses ocasions de gol que van tenir. Al descans, el resultat era de 0 a 1 amb gol de Javi Valero.
URI:https://www.llagosta.cat/actualitat/noticies/el-viejas-glorias-perdona-a-la-primera-part-i-perd-al-camp-del-can-clos-per-4-a-2.html
CLASS:PUBLIC
END:VEVENT
END:VCALENDAR
