BEGIN:VCALENDAR
VERSION:2.0
CALSCALE:GREGORIAN
PRODID:-//Diputació de Barcelona//DibaCMS//EN
BEGIN:VEVENT
UID:5162
DTSTAMP:20260423T130549
DTSTART:20120612T000000
DTEND:20130612T000000
SUMMARY:Balanç positiu del novè Memorial Joan Gelabert del Club Esportiu La Llagosta
LOCATION:
METHOD:PUBLISH
X-WR-CALNAME:llagosta@llagosta.cat
X-WR-TIMEZONE:Europe/Madrid
DESCRIPTION:El Club Esportiu La Llagosta ha fet un balanç positiu del novè Memorial de Futbol Joan Gelabert, celebrat el cap de setmana passat. Uns 400 jugadors han participat en aquest torneig.
URI:https://www.llagosta.cat/actualitat/noticies/balanc-positiu-del-nove-memorial-joan-gelabert-del-club-esportiu-la-llagosta.html
CLASS:PUBLIC
END:VEVENT
END:VCALENDAR
