BEGIN:VCALENDAR
VERSION:2.0
CALSCALE:GREGORIAN
PRODID:-//Diputació de Barcelona//DibaCMS//EN
BEGIN:VEVENT
UID:5161
DTSTAMP:20260423T171258
DTSTART:20120612T000000
DTEND:20130612T000000
SUMMARY:El grup del PSC a l'Ajuntament presenta al·legacions al pressupost municipal del 2012
LOCATION:
METHOD:PUBLISH
X-WR-CALNAME:llagosta@llagosta.cat
X-WR-TIMEZONE:Europe/Madrid
DESCRIPTION:El grup municipal socialista a l'Ajuntament de la Llagosta ha presentat un seguit d'al·legacions al pressupost municipal del 2012. Els socialistes llagostencs indiquen que la tramitació de l'expedient no va complir amb la legalitat vigent i asseguren que aquest és un pressupost desajustat que preveu uns ingressos molt per sobre dels reals.
URI:https://www.llagosta.cat/actualitat/noticies/el-grup-del-psc-a-lajuntament-presenta-allegacions-al-pressupost-municipal-del-2012.html
CLASS:PUBLIC
END:VEVENT
END:VCALENDAR
