BEGIN:VCALENDAR
VERSION:2.0
CALSCALE:GREGORIAN
PRODID:-//Diputació de Barcelona//DibaCMS//EN
BEGIN:VEVENT
UID:5160
DTSTAMP:20260424T024038
DTSTART:20120612T000000
DTEND:20130612T000000
SUMMARY:Dues noves adhesions al projecte A la Llagosta suem la samarreta i ens mullem contra l'atur
LOCATION:
METHOD:PUBLISH
X-WR-CALNAME:llagosta@llagosta.cat
X-WR-TIMEZONE:Europe/Madrid
DESCRIPTION:La Federació de Cooperatives de Catalunya i la cooperativa de serveis financers ètics i solidaris COOP57 s'han sumat avui al projecte de formació ocupacional de l'Ajuntament de la nostra localitat A la Llagosta suem la samarreta i ens mullem contra l'atur. 
URI:https://www.llagosta.cat/actualitat/noticies/dues-noves-adhesions-al-projecte-a-la-llagosta-suem-la-samarreta-i-ens-mullem-contra-latur.html
CLASS:PUBLIC
END:VEVENT
END:VCALENDAR
