BEGIN:VCALENDAR
VERSION:2.0
CALSCALE:GREGORIAN
PRODID:-//Diputació de Barcelona//DibaCMS//EN
BEGIN:VEVENT
UID:5159
DTSTAMP:20260423T104009
DTSTART:20120612T000000
DTEND:20130612T000000
SUMMARY:Un quart i un cinquè lloc per al Fabregat en el Campionat de Catalunya de Físic-Culturisme
LOCATION:
METHOD:PUBLISH
X-WR-CALNAME:llagosta@llagosta.cat
X-WR-TIMEZONE:Europe/Madrid
DESCRIPTION:Domingo Romero, del Club Esportiu Fabregat de la Llagosta, es va classificar dissabte en quarta posició en el Campionat de Catalunya de Físic-Culturisme. L'altre esportista llagostenc que va prendre part en aquesta competició, Pedro Márquez, va ser cinquè.
URI:https://www.llagosta.cat/actualitat/noticies/un-quart-i-un-cinque-lloc-per-al-fabregat-en-el-campionat-de-catalunya-de-fisic-culturisme.html
CLASS:PUBLIC
END:VEVENT
END:VCALENDAR
