BEGIN:VCALENDAR
VERSION:2.0
CALSCALE:GREGORIAN
PRODID:-//Diputació de Barcelona//DibaCMS//EN
BEGIN:VEVENT
UID:5158
DTSTAMP:20260423T001452
DTSTART:20120612T000000
DTEND:20130612T000000
SUMMARY:Aurora García, de la Llagosta, campiona de Catalunya aleví per equips de natació sincronitzada
LOCATION:
METHOD:PUBLISH
X-WR-CALNAME:llagosta@llagosta.cat
X-WR-TIMEZONE:Europe/Madrid
DESCRIPTION:La veïna de la Llagosta Aurora García s'ha proclamat campiona de Catalunya d'estiu de natació sincronitzada per equips de la categoria aleví. A més, ha estat tercera en la lliga de figures i quarta en la modalitat de duos. Aurora García forma part del Club Natació Granollers. El Campionat de Catalunya es va celebrar el cap de setmana passat a les Piscines Sant Jordi de Barcelona. 
URI:https://www.llagosta.cat/actualitat/noticies/aurora-garcia-de-la-llagosta-campiona-de-catalunya-alevi-per-equips-de-natacio-sincronitzada.html
CLASS:PUBLIC
END:VEVENT
END:VCALENDAR
