BEGIN:VCALENDAR
VERSION:2.0
CALSCALE:GREGORIAN
PRODID:-//Diputació de Barcelona//DibaCMS//EN
BEGIN:VEVENT
UID:5157
DTSTAMP:20260424T130253
DTSTART:20120611T000000
DTEND:20130611T000000
SUMMARY:La primera Setmana del Teatre de la Llagosta va acabar ahir amb un espectacle de grups locals
LOCATION:
METHOD:PUBLISH
X-WR-CALNAME:llagosta@llagosta.cat
X-WR-TIMEZONE:Europe/Madrid
DESCRIPTION:El Centre Cultural es va omplir ahir durant la cloenda de la primera Setmana del Teatre de la Llagosta. L'espectacle Mostra Teatral 1.0 va servir per tancar les activitats d'aquesta proposta cultural que s'ha desenvolupat a la nostra localitat durant els darrers dies.
URI:https://www.llagosta.cat/actualitat/noticies/la-primera-setmana-del-teatre-de-la-llagosta-va-acabar-ahir-amb-un-espectacle-de-grups-locals.html
CLASS:PUBLIC
END:VEVENT
END:VCALENDAR
