BEGIN:VCALENDAR
VERSION:2.0
CALSCALE:GREGORIAN
PRODID:-//Diputació de Barcelona//DibaCMS//EN
BEGIN:VEVENT
UID:5156
DTSTAMP:20260424T002651
DTSTART:20120611T000000
DTEND:20130611T000000
SUMMARY:Un ferit lleu per inhalació de fum, en un incendi d'un pis ahir a la Llagosta
LOCATION:
METHOD:PUBLISH
X-WR-CALNAME:llagosta@llagosta.cat
X-WR-TIMEZONE:Europe/Madrid
DESCRIPTION:Un home de 68 anys va patir ahir una intoxicació lleu pel fum d'un incendi que va afectar una habitació d'un pis situat al carrer del Pintor Fortuny de la nostra localitat.
URI:https://www.llagosta.cat/actualitat/noticies/un-ferit-lleu-per-inhalacio-de-fum-en-un-incendi-dun-pis-ahir-a-la-llagosta.html
CLASS:PUBLIC
END:VEVENT
END:VCALENDAR
