BEGIN:VCALENDAR
VERSION:2.0
CALSCALE:GREGORIAN
PRODID:-//Diputació de Barcelona//DibaCMS//EN
BEGIN:VEVENT
UID:5155
DTSTAMP:20260424T091127
DTSTART:20120611T000000
DTEND:20130611T000000
SUMMARY:Oberta la inscripció per a cursos intensius de català de l'Oficina de Català de la Llagosta
LOCATION:
METHOD:PUBLISH
X-WR-CALNAME:llagosta@llagosta.cat
X-WR-TIMEZONE:Europe/Madrid
DESCRIPTION:L'Oficina de Català de la Llagosta ha obert avui les inscripcions per als cursos intensius de català que es faran al mes de juliol. El curs que es realitzarà a la Llagosta serà el bàsic 1.
URI:https://www.llagosta.cat/actualitat/noticies/oberta-la-inscripcio-per-a-cursos-intensius-de-catala-de-loficina-de-catala-de-la-llagosta.html
CLASS:PUBLIC
END:VEVENT
END:VCALENDAR
