BEGIN:VCALENDAR
VERSION:2.0
CALSCALE:GREGORIAN
PRODID:-//Diputació de Barcelona//DibaCMS//EN
BEGIN:VEVENT
UID:5154
DTSTAMP:20260423T080814
DTSTART:20120611T000000
DTEND:20130611T000000
SUMMARY:El Fútbol Sala Unión Llagostense jugarà dissabte la final de la Copa Catalunya 
LOCATION:
METHOD:PUBLISH
X-WR-CALNAME:llagosta@llagosta.cat
X-WR-TIMEZONE:Europe/Madrid
DESCRIPTION:El Fútbol Sala Unión Llagostense jugarà la final de la Copa Catalunya després de derrotar dissabte en la semifinal l'Oliveras per un ajustat 5 a 4. El partit es va resoldre en el darrer minut. A falta de nou segons per al final, David Soria va fer el 5 a 4 i, després, el porter del conjunt llagostenc, Javi García, va impedir que l'Oliveras forcés la pròrroga en aturar un penal.
URI:https://www.llagosta.cat/actualitat/noticies/el-futbol-sala-union-llagostense-jugara-dissabte-la-final-de-la-copa-catalunya-.html
CLASS:PUBLIC
END:VEVENT
END:VCALENDAR
