BEGIN:VCALENDAR
VERSION:2.0
CALSCALE:GREGORIAN
PRODID:-//Diputació de Barcelona//DibaCMS//EN
BEGIN:VEVENT
UID:5153
DTSTAMP:20260423T153230
DTSTART:20120611T000000
DTEND:20130611T000000
SUMMARY:Estela García, campiona de Catalunya de natació sincronitzada infantil per equips 
LOCATION:
METHOD:PUBLISH
X-WR-CALNAME:llagosta@llagosta.cat
X-WR-TIMEZONE:Europe/Madrid
DESCRIPTION:La veïna de la Llagosta Estela García es va proclamar el cap de setmana passat campiona de Catalunya d'estiu de la categoria infantil de natació sincronitzada en la modalitat d'equip amb el Club Natació Granollers. A més, en Duo, va ser quarta; i en Solo, sisena. La competició va tenir lloc durant el cap de setmana a les Piscines Sant Jordi de Barcelona. Dissabte, va aconseguir l'or amb el seu equip, el Club Natació Granollers, superant el Kallipolis. Dissabte, també va competir en Solo, mentre que, ahir diumenge, ho va fer en Duo. 
URI:https://www.llagosta.cat/actualitat/noticies/estela-garcia-campiona-de-catalunya-de-natacio-sincronitzada-infantil-per-equips-.html
CLASS:PUBLIC
END:VEVENT
END:VCALENDAR
