BEGIN:VCALENDAR
VERSION:2.0
CALSCALE:GREGORIAN
PRODID:-//Diputació de Barcelona//DibaCMS//EN
BEGIN:VEVENT
UID:5152
DTSTAMP:20260423T205130
DTSTART:20120608T000000
DTEND:20130608T000000
SUMMARY:La Bonoloto reparteix un premi de gairebé 60.500 euros a la Llagosta
LOCATION:
METHOD:PUBLISH
X-WR-CALNAME:llagosta@llagosta.cat
X-WR-TIMEZONE:Europe/Madrid
DESCRIPTION:Una butlleta validada a l'administració del carrer de l'Estació de la Llagosta va resultar premiada  en el sorteig de la Bonoloto de dimecres  amb gairebé 60.500 euros. Aquest premi correspon a cada un dels tres únics encertants de la Segona Categoria, que van endevinar els cinc números de la combinació guanyadora més el complementari. 
URI:https://www.llagosta.cat/actualitat/noticies/la-bonoloto-reparteix-un-premi-de-gairebe-60500-euros-a-la-llagosta.html
CLASS:PUBLIC
END:VEVENT
END:VCALENDAR
