BEGIN:VCALENDAR
VERSION:2.0
CALSCALE:GREGORIAN
PRODID:-//Diputació de Barcelona//DibaCMS//EN
BEGIN:VEVENT
UID:5151
DTSTAMP:20260423T103135
DTSTART:20120608T000000
DTEND:20130607T000000
SUMMARY:El CE la Llagosta celebra el Memorial de Futbol Joan Gelabert
LOCATION:
METHOD:PUBLISH
X-WR-CALNAME:llagosta@llagosta.cat
X-WR-TIMEZONE:Europe/Madrid
DESCRIPTION:El Club Esportiu La Llagosta celebra aquest cap de setmana el  novè Memorial de Futbol Joan Gelabert. Dissabte, se celebraran les activitats adreçades als conjunts de futbol 7 i, diumenge, als de futbol 11. 
URI:https://www.llagosta.cat/actualitat/noticies/el-ce-la-llagosta-celebra-el-memorial-de-futbol-joan-gelabert.html
CLASS:PUBLIC
END:VEVENT
END:VCALENDAR
