BEGIN:VCALENDAR
VERSION:2.0
CALSCALE:GREGORIAN
PRODID:-//Diputació de Barcelona//DibaCMS//EN
BEGIN:VEVENT
UID:5150
DTSTAMP:20260423T075840
DTSTART:20120608T000000
DTEND:20130608T000000
SUMMARY:La primera Setmana del Teatre arriba al seu final amb la Mostra Teatral 1.0
LOCATION:
METHOD:PUBLISH
X-WR-CALNAME:llagosta@llagosta.cat
X-WR-TIMEZONE:Europe/Madrid
DESCRIPTION:La Setmana del Teatre de la Llagosta finalitzarà diumenge amb l'espectacle Mostra Teatral 1.0, un espectacle muntat a base de diferents fragments de les obres interpretades per diversos grups locals. Abans, el Casal d'Avis anirà a veure dissabte el darrer muntatge de la Cubana, Campanades de boda.

URI:https://www.llagosta.cat/actualitat/noticies/la-primera-setmana-del-teatre-arriba-al-seu-final-amb-la-mostra-teatral-10.html
CLASS:PUBLIC
END:VEVENT
END:VCALENDAR
