BEGIN:VCALENDAR
VERSION:2.0
CALSCALE:GREGORIAN
PRODID:-//Diputació de Barcelona//DibaCMS//EN
BEGIN:VEVENT
UID:5149
DTSTAMP:20260423T101318
DTSTART:20120608T000000
DTEND:20130607T000000
SUMMARY:El PSC explica en assemblea les al·legacions que presentarà al pressupost municipal
LOCATION:
METHOD:PUBLISH
X-WR-CALNAME:llagosta@llagosta.cat
X-WR-TIMEZONE:Europe/Madrid
DESCRIPTION:Unes 35 persones van assistir a l'assemblea oberta organitzada ahir per l'Agrupació Local del Partit dels Socialistes de Catalunya per parlar sobre el pressupost municipal de 2012. El PSC va exposar la seva posició davant els comptes aprovats inicialment pel ple i va recollir l'opinió dels assistents, que serviran per preparar les seves al·legacions als pressupostos.
URI:https://www.llagosta.cat/actualitat/noticies/el-psc-explica-en-assemblea-les-allegacions-que-presentara-al-pressupost-municipal.html
CLASS:PUBLIC
END:VEVENT
END:VCALENDAR
