BEGIN:VCALENDAR
VERSION:2.0
CALSCALE:GREGORIAN
PRODID:-//Diputació de Barcelona//DibaCMS//EN
BEGIN:VEVENT
UID:5148
DTSTAMP:20260423T083402
DTSTART:20120608T000000
DTEND:20130607T000000
SUMMARY:Antonio García Robledo, convocat per a la fase de preparació dels Jocs Olímpics de Londres
LOCATION:
METHOD:PUBLISH
X-WR-CALNAME:llagosta@llagosta.cat
X-WR-TIMEZONE:Europe/Madrid
DESCRIPTION:El llagostenc Antonio García Robledo ha estat preseleccionat per l'equip espanyol d'handbol per preparar els Jocs Olímpics de Londres. García, actual jugador de l'Ademar de Lleó, estarà concentrat a partir del 24 de juny i espera ser un del quinze jugadors que finalment disputin les Olimpíades. 
URI:https://www.llagosta.cat/actualitat/noticies/antonio-garcia-robledo-convocat-per-a-la-fase-de-preparacio-dels-jocs-olimpics-de-londres.html
CLASS:PUBLIC
END:VEVENT
END:VCALENDAR
