BEGIN:VCALENDAR
VERSION:2.0
CALSCALE:GREGORIAN
PRODID:-//Diputació de Barcelona//DibaCMS//EN
BEGIN:VEVENT
UID:5147
DTSTAMP:20260423T172105
DTSTART:20120607T000000
DTEND:20130607T000000
SUMMARY:L'Obra Social La Caixa dóna 10.000 euros a l'Ajuntament per a programes socials
LOCATION:
METHOD:PUBLISH
X-WR-CALNAME:llagosta@llagosta.cat
X-WR-TIMEZONE:Europe/Madrid
DESCRIPTION:L'Obra Social La Caixa ha donat a l'Ajuntament de la Llagosta 10.000 euros per al finançament de diversos programes socials. Aquests diners serviran per sufragar part de les ajudes que el Consistori destina a famílies necessitades de la nostra població.
URI:https://www.llagosta.cat/actualitat/noticies/lobra-social-la-caixa-dona-10000-euros-a-lajuntament-per-a-programes-socials.html
CLASS:PUBLIC
END:VEVENT
END:VCALENDAR
