BEGIN:VCALENDAR
VERSION:2.0
CALSCALE:GREGORIAN
PRODID:-//Diputació de Barcelona//DibaCMS//EN
BEGIN:VEVENT
UID:5146
DTSTAMP:20260423T102629
DTSTART:20120607T000000
DTEND:20130607T000000
SUMMARY:Accions del grup parlamentari d'ICV-EUiA a favor de les al·legacions sobre la línia R-3
LOCATION:
METHOD:PUBLISH
X-WR-CALNAME:llagosta@llagosta.cat
X-WR-TIMEZONE:Europe/Madrid
DESCRIPTION:El grup parlamentari d'Iniciativa per Catalunya Verds-Esquerra Unida i Alternativa vol que la Generalitat doni suport a les al·legacions sobre la línia ferroviària R-3 presentades per l'Ajuntament de la Llagosta, juntament amb el de Santa Perpètua i Ripollet. D'altra banda, els diputats ecosocialistes al Congrés també estan fent gestions per afavorir l'acceptació d'aquestes al·legacions.
URI:https://www.llagosta.cat/actualitat/noticies/accions-del-grup-parlamentari-dicv-euia-a-favor-de-les-allegacions-sobre-la-linia-r-3.html
CLASS:PUBLIC
END:VEVENT
END:VCALENDAR
