BEGIN:VCALENDAR
VERSION:2.0
CALSCALE:GREGORIAN
PRODID:-//Diputació de Barcelona//DibaCMS//EN
BEGIN:VEVENT
UID:5145
DTSTAMP:20260424T002102
DTSTART:20120607T000000
DTEND:20130607T000000
SUMMARY:Ja es coneixen els quatre finalistes del 29è Concurs de cante jondo Ciutat de la Llagosta
LOCATION:
METHOD:PUBLISH
X-WR-CALNAME:llagosta@llagosta.cat
X-WR-TIMEZONE:Europe/Madrid
DESCRIPTION:Els quatre finalistes de l'edició número 29 del Concurs de cante jondo Ciutat de la Llagosta, organitzat per la Casa de Andalucía, són Víctor Palacios, Raquel Vera Expósito, José Antonio Escribano i Juan Manuel Caro. La final tindrà lloc el 16 de  juny, a les vuit del vespre, al Centre Cultural de la plaça de l'Alcalde Sisó Pons. Durant aquell acte també es farà el lliurament de premis.
URI:https://www.llagosta.cat/actualitat/noticies/ja-es-coneixen-els-quatre-finalistes-del-29e-concurs-de-cante-jondo-ciutat-de-la-llagosta.html
CLASS:PUBLIC
END:VEVENT
END:VCALENDAR
