BEGIN:VCALENDAR
VERSION:2.0
CALSCALE:GREGORIAN
PRODID:-//Diputació de Barcelona//DibaCMS//EN
BEGIN:VEVENT
UID:5144
DTSTAMP:20260423T041000
DTSTART:20120607T000000
DTEND:20130607T000000
SUMMARY:Dos esportistes del CE Fabregat, en el Campionat de Catalunya de Físic-Culturisme
LOCATION:
METHOD:PUBLISH
X-WR-CALNAME:llagosta@llagosta.cat
X-WR-TIMEZONE:Europe/Madrid
DESCRIPTION:Dos membres del Club Esportiu Fabregat de la Llagosta, Domingo Romero i Pedro Márquez, participaran dissabte en el Campionat de Catalunya de Físic-Culturisme. La competició se celebrarà a la localitat de Pallejà. Els esportistes de la nostra localitat prendran part en la categoria sènior principiant.
URI:https://www.llagosta.cat/actualitat/noticies/dos-esportistes-del-ce-fabregat-en-el-campionat-de-catalunya-de-fisic-culturisme.html
CLASS:PUBLIC
END:VEVENT
END:VCALENDAR
