BEGIN:VCALENDAR
VERSION:2.0
CALSCALE:GREGORIAN
PRODID:-//Diputació de Barcelona//DibaCMS//EN
BEGIN:VEVENT
UID:5142
DTSTAMP:20260423T184701
DTSTART:20120606T000000
DTEND:20130606T000000
SUMMARY:El PSC de la Llagosta farà demà un acte sobre el pressupost municipal de 2012
LOCATION:
METHOD:PUBLISH
X-WR-CALNAME:llagosta@llagosta.cat
X-WR-TIMEZONE:Europe/Madrid
DESCRIPTION:L'Agrupació Local del Partit dels Socialistes de Catalunya celebrarà demà una assemblea sobre el pressupost municipal de 2012. L'acte està obert a tota la població i es farà a dos quarts de vuit de la tarda a la Casa del Pueblo, al carrer de Sant Pau.
URI:https://www.llagosta.cat/actualitat/noticies/el-psc-de-la-llagosta-fara-dema-un-acte-sobre-el-pressupost-municipal-de-2012.html
CLASS:PUBLIC
END:VEVENT
END:VCALENDAR
