BEGIN:VCALENDAR
VERSION:2.0
CALSCALE:GREGORIAN
PRODID:-//Diputació de Barcelona//DibaCMS//EN
BEGIN:VEVENT
UID:5141
DTSTAMP:20260423T131828
DTSTART:20120606T000000
DTEND:20130606T000000
SUMMARY:La passejada del Dia Mundial del Medi Ambient va comptar amb uns 50 participants
LOCATION:
METHOD:PUBLISH
X-WR-CALNAME:llagosta@llagosta.cat
X-WR-TIMEZONE:Europe/Madrid
DESCRIPTION:Una cinquantena de persones van participar ahir a la passejada organitzada per l'Ajuntament de la Llagosta amb motiu del Dia Mundial del Medi Ambient. L'activitat va servir per conèixer la varietat d'arbres que hi ha al nostre municipi.

URI:https://www.llagosta.cat/actualitat/noticies/la-passejada-del-dia-mundial-del-medi-ambient-va-comptar-amb-uns-50-participants.html
CLASS:PUBLIC
END:VEVENT
END:VCALENDAR
