BEGIN:VCALENDAR
VERSION:2.0
CALSCALE:GREGORIAN
PRODID:-//Diputació de Barcelona//DibaCMS//EN
BEGIN:VEVENT
UID:5140
DTSTAMP:20260424T093130
DTSTART:20120606T000000
DTEND:20130606T000000
SUMMARY:La Unión Llagostense passa a les semifinals de la Copa en derrotar el Cardedeu per 3 a 6. 
LOCATION:
METHOD:PUBLISH
X-WR-CALNAME:llagosta@llagosta.cat
X-WR-TIMEZONE:Europe/Madrid
DESCRIPTION:El Fútbol Sala Unión Llagostense ja està en semifinals de la Copa Catalunya després de derrotar el cap de setmana passat el Cardedeu per 3 a 6. Els llagostencs van ser molt superiors al seu rival des del primer moment. 
URI:https://www.llagosta.cat/actualitat/noticies/la-union-llagostense-passa-a-les-semifinals-de-la-copa-en-derrotar-el-cardedeu-per-3-a-6-.html
CLASS:PUBLIC
END:VEVENT
END:VCALENDAR
