BEGIN:VCALENDAR
VERSION:2.0
CALSCALE:GREGORIAN
PRODID:-//Diputació de Barcelona//DibaCMS//EN
BEGIN:VEVENT
UID:5139
DTSTAMP:20260423T120436
DTSTART:20120605T000000
DTEND:20130605T000000
SUMMARY:Diumenge, es va fer la cloenda de les Trobades Coaliment d'handbol de Granollers
LOCATION:
METHOD:PUBLISH
X-WR-CALNAME:llagosta@llagosta.cat
X-WR-TIMEZONE:Europe/Madrid
DESCRIPTION:Un centenar de nens dels quatre col·legis de la Llagosta han participat durant les darreres setmanes en les Trobades Coaliment d'handbol de Granollers. La cloenda va tenir lloc diumenge al Palau Olímpic de Granollers i va comptar amb l'assistència del regidor d'Esports de l'Ajuntament de la Llagosta, Jesús Ríos. 
URI:https://www.llagosta.cat/actualitat/noticies/diumenge-es-va-fer-la-cloenda-de-les-trobades-coaliment-dhandbol-de-granollers.html
CLASS:PUBLIC
END:VEVENT
END:VCALENDAR
