BEGIN:VCALENDAR
VERSION:2.0
CALSCALE:GREGORIAN
PRODID:-//Diputació de Barcelona//DibaCMS//EN
BEGIN:VEVENT
UID:5138
DTSTAMP:20260423T021225
DTSTART:20120605T000000
DTEND:20130605T000000
SUMMARY:Els gegants de la Llagosta van participar diumenge en la Trobada Comarcal a Sant Cugat
LOCATION:
METHOD:PUBLISH
X-WR-CALNAME:llagosta@llagosta.cat
X-WR-TIMEZONE:Europe/Madrid
DESCRIPTION:La geganta de la Llagosta, la Blanqueta, va cedir diumenge la banda de Pubilla del Vallès a la geganta de Sant Cugat. L'acte es va fer durant la dinovena Trobada Comarcal de Gegants del Vallès, que es va celebrar a Sant Cugat.
Els tres gegants de la nostra localitat van participar en aquesta Trobada, a la qual van assistir una trentena de colles del Vallès. Tot i la pluja inicial, uns 80 gegants, gegantons i capgrossos hi van fer acte de presència. A partir d'ara, i durant un any, la geganta de Sant Cugat representarà al Vallès a les diferents trobades en les quals participi. 
URI:https://www.llagosta.cat/actualitat/noticies/els-gegants-de-la-llagosta-van-participar-diumenge-en-la-trobada-comarcal-a-sant-cugat.html
CLASS:PUBLIC
END:VEVENT
END:VCALENDAR
