BEGIN:VCALENDAR
VERSION:2.0
CALSCALE:GREGORIAN
PRODID:-//Diputació de Barcelona//DibaCMS//EN
BEGIN:VEVENT
UID:5137
DTSTAMP:20260424T021715
DTSTART:20120605T000000
DTEND:20130605T000000
SUMMARY:Luna Sierra Pardo, medalla de bronze al Campionat de Catalunya sub-21 de taekwondo
LOCATION:
METHOD:PUBLISH
X-WR-CALNAME:llagosta@llagosta.cat
X-WR-TIMEZONE:Europe/Madrid
DESCRIPTION:La llagostenca Luna Sierra Pardo ha obtingut la medalla de bronze al Campionat de Catalunya sub-21 de taekwondo. La competició es va celebrar diumenge a Barcelona.
URI:https://www.llagosta.cat/actualitat/noticies/luna-sierra-pardo-medalla-de-bronze-al-campionat-de-catalunya-sub-21-de-taekwondo.html
CLASS:PUBLIC
END:VEVENT
END:VCALENDAR
