BEGIN:VCALENDAR
VERSION:2.0
CALSCALE:GREGORIAN
PRODID:-//Diputació de Barcelona//DibaCMS//EN
BEGIN:VEVENT
UID:5136
DTSTAMP:20260422T223958
DTSTART:20120605T000000
DTEND:20130625T000000
SUMMARY:El Club Deportivo Viejas Glorias va empatar (3-3) dissabte a casa contra el Llano
LOCATION:
METHOD:PUBLISH
X-WR-CALNAME:llagosta@llagosta.cat
X-WR-TIMEZONE:Europe/Madrid
DESCRIPTION:El Club Deportivo Viejas Glorias va empatar el cap de setmana passat a tres gols a casa contra el Llano. Miguel va avançar els llagostencs amb el llançament d'una falta, però els visitants van empatar ràpidament gràcies a un penal. Abans del descans, Miguel va fer el 2 a 1. 
URI:https://www.llagosta.cat/actualitat/noticies/el-club-deportivo-viejas-glorias-va-empatar-3-3-dissabte-a-casa-contra-el-llano.html
CLASS:PUBLIC
END:VEVENT
END:VCALENDAR
