BEGIN:VCALENDAR
VERSION:2.0
CALSCALE:GREGORIAN
PRODID:-//Diputació de Barcelona//DibaCMS//EN
BEGIN:VEVENT
UID:5135
DTSTAMP:20260423T043007
DTSTART:20120604T000000
DTEND:20130604T000000
SUMMARY:Can Pelegrí acull demà una xerrada adreçada a joves sobre treballar a l'estranger 
LOCATION:
METHOD:PUBLISH
X-WR-CALNAME:llagosta@llagosta.cat
X-WR-TIMEZONE:Europe/Madrid
DESCRIPTION:El Centre Cultural i Juvenil Can Pelegrí acollirà demà una xerrada sota el títol de Vull treballar a l'estranger. L'activitat es desenvoluparà de sis a set de la tarda i està adreçada principalment a joves. 
URI:https://www.llagosta.cat/actualitat/noticies/can-pelegri-acull-dema-una-xerrada-adrecada-a-joves-sobre-treballar-a-lestranger-.html
CLASS:PUBLIC
END:VEVENT
END:VCALENDAR
