BEGIN:VCALENDAR
VERSION:2.0
CALSCALE:GREGORIAN
PRODID:-//Diputació de Barcelona//DibaCMS//EN
BEGIN:VEVENT
UID:5134
DTSTAMP:20260423T035658
DTSTART:20120604T000000
DTEND:20130604T000000
SUMMARY:El Consistori organitzarà demà un acte per celebrar el Dia Mundial del Medi Ambient
LOCATION:
METHOD:PUBLISH
X-WR-CALNAME:llagosta@llagosta.cat
X-WR-TIMEZONE:Europe/Madrid
DESCRIPTION:L'Ajuntament de la Llagosta se suma demà a la celebració del Dia Mundial del Medi Ambient. El Consistori organitzarà una passejada per conèixer els arbres de la nostra localitat.
URI:https://www.llagosta.cat/actualitat/noticies/el-consistori-organitzara-dema-un-acte-per-celebrar-el-dia-mundial-del-medi-ambient.html
CLASS:PUBLIC
END:VEVENT
END:VCALENDAR
