BEGIN:VCALENDAR
VERSION:2.0
CALSCALE:GREGORIAN
PRODID:-//Diputació de Barcelona//DibaCMS//EN
BEGIN:VEVENT
UID:5133
DTSTAMP:20260423T061015
DTSTART:20120604T000000
DTEND:20130604T000000
SUMMARY:L'Oficina de Català estarà ubicada des de demà a l'edifici municipal del passeig del Pintor Sert
LOCATION:
METHOD:PUBLISH
X-WR-CALNAME:llagosta@llagosta.cat
X-WR-TIMEZONE:Europe/Madrid
DESCRIPTION:L'Oficina de Català de la Llagosta es traslladarà a partir de demà a les dependències de l'edifici administratiu del passeig del Pintor Sert. D'aquesta manera, es vol donar una millor atenció als usuaris del servei.
URI:https://www.llagosta.cat/actualitat/noticies/loficina-de-catala-estara-ubicada-des-de-dema-a-ledifici-municipal-del-passeig-del-pintor-sert.html
CLASS:PUBLIC
END:VEVENT
END:VCALENDAR
